BEGIN:VCALENDAR
VERSION:2.0
PRODID:-//ADPS - ECPv5.1.0//NONSGML v1.0//EN
CALSCALE:GREGORIAN
METHOD:PUBLISH
X-WR-CALNAME:ADPS
X-ORIGINAL-URL:https://adps-sante.fr
X-WR-CALDESC:Évènements pour ADPS
BEGIN:VTIMEZONE
TZID:UTC
BEGIN:STANDARD
TZOFFSETFROM:+0000
TZOFFSETTO:+0000
TZNAME:UTC
DTSTART:20260101T000000
END:STANDARD
END:VTIMEZONE
BEGIN:VEVENT
DTSTART;TZID=UTC:20260430T000000
DTEND;TZID=UTC:20260430T235959
DTSTAMP:20260425T111523
CREATED:20250401T095731Z
LAST-MODIFIED:20260402T135942Z
UID:33193-1777507200-1777593599@adps-sante.fr
SUMMARY:30 avril : Journée mondiale des mobilités et de l’accessibilité
DESCRIPTION:\n\n\n\n\n\n\nL’enjeu est de rendre les espaces publics en ville et en région\, accessibles aux personnes en situation de handicap : établissements et infrastructures ouvert au public\, espaces naturels\, transports… Au-delà de l’accessibilité physique\, l’accessibilité des services est également un enjeu. L’accessibilité concerne les personnes à mobilité réduite\, mais plus largement toutes les personnes en situation de handicap\, les personnes âgées comme l’ensemble des citoyens. \n\n\n\n\n\n  \n    \n      \n                        POUR EN SAVOIR PLUS\n                \n                  \n            \n                        Handicap et mobilités : les initiatives pour rendre la nature accessible\n                      \n                \n      \n    \n  \n\n\n\n  .block-e_arrow-list {\n    padding: 0;\n  }\n\n\n
URL:https://adps-sante.fr/event/journee-mondiale-des-mobilites-et-de-laccessibilite/
END:VEVENT
END:VCALENDAR