BEGIN:VCALENDAR
VERSION:2.0
PRODID:-//ADPS - ECPv5.1.0//NONSGML v1.0//EN
CALSCALE:GREGORIAN
METHOD:PUBLISH
X-WR-CALNAME:ADPS
X-ORIGINAL-URL:https://adps-sante.fr
X-WR-CALDESC:Évènements pour ADPS
BEGIN:VTIMEZONE
TZID:UTC
BEGIN:STANDARD
TZOFFSETFROM:+0000
TZOFFSETTO:+0000
TZNAME:UTC
DTSTART:20250101T000000
END:STANDARD
END:VTIMEZONE
BEGIN:VEVENT
DTSTART;TZID=UTC:20251001T000000
DTEND;TZID=UTC:20251031T235959
DTSTAMP:20260425T153114
CREATED:20240930T155153Z
LAST-MODIFIED:20250922T155140Z
UID:30922-1759276800-1761955199@adps-sante.fr
SUMMARY:Octobre Rose
DESCRIPTION:\n\n\n\n\n\n\nOctobre Rose vise à encourager les femmes à pratiquer des mammographies régulières à partir de 50 ans\, voire plus tôt si des antécédents familiaux existent. \n\n\n\nOctobre Rose est un mois crucial pour rappeler l’importance du dépistage et de la prévention dans la lutte contre le cancer du sein. \n\n\n\nL’objectif est de diminuer le nombre de décès causés par ce cancer en le détectant plus tôt\, avant l‘apparition de symptômes. Se faire dépister permet d’établir un diagnostic précoce permettant une prise en charge adaptée et l’augmentation des chances de guérison. \n\n\n\nEn effet\, le cancer du sein est le cancer le plus fréquent chez les femmes en France et constitue chez elles la principale cause de mortalité. \n\n\n\nL’Institut national du cancer (INCa) estime que 80 % des cancers du sein surviennent après l’âge de 50 ans. \n\n\n\nC’est à partir de cet âge que l’INCa préconise d’effectuer un dépistage régulier\, le plus efficace afin d’augmenter les chances de guérison en cas de maladie. Détecté tôt\, le cancer du sein est guéri dans 90 % des cas ; par ailleurs\, détectée à un stade précoce\, la maladie nécessite\, en général\, des traitements moins lourds et moins agressifs. \n\n\n\n\n\n  \n    \n      \n                        POUR EN SAVOIR PLUS\n                \n                  \n            \n                        https://www.ligue-cancer.net/octobre-rose\n                      \n                \n      \n    \n  \n\n\n\n  .block-e_arrow-list {\n    padding: 0;\n  }\n\n\n\n\n\n\n\n\n\n\n\n\n\n\n
URL:https://adps-sante.fr/event/octobre-rose-3/
END:VEVENT
END:VCALENDAR