BEGIN:VCALENDAR
VERSION:2.0
PRODID:-//ADPS - ECPv5.1.0//NONSGML v1.0//EN
CALSCALE:GREGORIAN
METHOD:PUBLISH
X-WR-CALNAME:ADPS
X-ORIGINAL-URL:https://adps-sante.fr
X-WR-CALDESC:Évènements pour ADPS
BEGIN:VTIMEZONE
TZID:UTC
BEGIN:STANDARD
TZOFFSETFROM:+0000
TZOFFSETTO:+0000
TZNAME:UTC
DTSTART:20230101T000000
END:STANDARD
END:VTIMEZONE
BEGIN:VEVENT
DTSTART;TZID=UTC:20230325T134500
DTEND;TZID=UTC:20230325T170000
DTSTAMP:20260425T181725
CREATED:20230320T165711Z
LAST-MODIFIED:20230320T165805Z
UID:24378-1679751900-1679763600@adps-sante.fr
SUMMARY:Mars Bleu à Saint-Sulpice-le Guérétois
DESCRIPTION:\n\n\nL’Association de Prévoyance Santé et l’Association Gym Détente vous donnent rendez-vous à la salle André Bourliaud pour la diffusion d’un diaporama sur le thème du Cancer Colorectal suivi d’une marche bleue et d’un verre de l’amitié  \n\n\n\n\n\n\n\n\n\n\n\n\n\n\n\n\n
URL:https://adps-sante.fr/event/mars-bleu-a-saint-sulpice-le-gueretois/
END:VEVENT
END:VCALENDAR