BEGIN:VCALENDAR
VERSION:2.0
PRODID:-//ADPS - ECPv5.1.0//NONSGML v1.0//EN
CALSCALE:GREGORIAN
METHOD:PUBLISH
X-WR-CALNAME:ADPS
X-ORIGINAL-URL:https://adps-sante.fr
X-WR-CALDESC:Évènements pour ADPS
BEGIN:VTIMEZONE
TZID:UTC
BEGIN:STANDARD
TZOFFSETFROM:+0000
TZOFFSETTO:+0000
TZNAME:UTC
DTSTART:20240101T000000
END:STANDARD
END:VTIMEZONE
BEGIN:VEVENT
DTSTART;TZID=UTC:20240926T000000
DTEND;TZID=UTC:20240926T235959
DTSTAMP:20260425T164649
CREATED:20240806T080100Z
LAST-MODIFIED:20240826T074335Z
UID:16585-1727308800-1727395199@adps-sante.fr
SUMMARY:Assemblée Générale Ordinaire de votre Association
DESCRIPTION:\n\n\n\n\n\n\n \n\n\n\nORDRE DU JOUR\n\n\n\n1. Approbation du procès-verbal de la précédente Assemblée Générale. \n\n\n\n2. Rapport moral du Président \n\n\n\n3. Approbation des comptes de l’exercice 2023 et affectation du résultat \n\n\n\n4. Révision du budget 2024 \n\n\n\n5. Budget 2025 \n\n\n\n6. Approbation de la prolongation de la mise à disposition de l’enveloppe exceptionnelle de solidarité pour l’exercice 2025-2026 \n\n\n\n7. Quitus aux administrateurs \n\n\n\n8. Délégation de l’Assemblée Générale au Conseil d’Administration \n\n\n\n9. Autorisation de l’Assemblée Générale pour la modification des dispositions essentielles des contrats d’assurance de groupe souscrits par l’ADPS \n\n\n\n10 à 30. Renouvellement et élection des membres du Conseil d’Administration \n\n\n\n31. Toute autre question de la compétence de l’Assemblée Générale Ordinaire \n\n\n\n32. Informations générales et perspectives  \n\n\n\n33. Questions diverses \n\n\n\n\n\n  \n    \n      \n                        POUR EN SAVOIR PLUS\n                \n                  \n            \n                        Sur l’ordre du jour\n                      \n                \n      \n    \n  \n\n\n\n  .block-e_arrow-list {\n    padding: 2% 0;\n  }\n\n\n\n\n\n\n\n  \n        \n      \n        Lieu\n      \n    \n        \n      \n        \n              \n          \n\n          \n            .block-e_flexi-text-box p\,\n            .block-e_flexi-text-box li {\n              color:#ffffff;\n              font-size: 1rem;\n              text-align: left;\n            }\n          \n\n          \n            Fourvière Hôtel\n23 rue Roger Radisson\n69005 LYON \n\n          \n                \n      \n    \n  \n\n\n\n  #e_flexi-text-box-block_5f070f18ede85 {\n    padding: 0;\n    background-color: #ffffff;\n    margin: 0;\n    border: none;\n  }\n\n\n\n \n\n\n\n\n\n\n\n\n\n\n\n\n
URL:https://adps-sante.fr/event/assemblee-generale-ordinaire-de-votre-association/
END:VEVENT
END:VCALENDAR