BEGIN:VCALENDAR
VERSION:2.0
PRODID:-//ADPS - ECPv5.1.0//NONSGML v1.0//EN
CALSCALE:GREGORIAN
METHOD:PUBLISH
X-WR-CALNAME:ADPS
X-ORIGINAL-URL:https://adps-sante.fr
X-WR-CALDESC:Évènements pour ADPS
BEGIN:VTIMEZONE
TZID:UTC
BEGIN:STANDARD
TZOFFSETFROM:+0000
TZOFFSETTO:+0000
TZNAME:UTC
DTSTART:20240101T000000
END:STANDARD
END:VTIMEZONE
BEGIN:VEVENT
DTSTART;TZID=UTC:20240229T000000
DTEND;TZID=UTC:20240229T235959
DTSTAMP:20260425T164823
CREATED:20240205T104019Z
LAST-MODIFIED:20240205T104917Z
UID:28298-1709164800-1709251199@adps-sante.fr
SUMMARY:3 millions de personnes touchées\, une journée pour en parler
DESCRIPTION:\n\n\n\n\n\n\nUne maladie est dite « rare » lorsqu’elle touche moins d’une personne sur 2 000 soit\, pour la France\, moins de 30 000 personnes malades par pathologie. 80% des maladies rares sont d’origine génétique. En France\, elles représentent un enjeu majeur de santé publique car les 6 à 8 000 maladies rares identifiées à ce jour concernent plus de 3 millions de personnes soit 4\,5% de la population. Ainsi\, nous croisons et côtoyons tous les jours des personnes porteuses d’une maladie rare sans forcément le savoir. La rareté de la maladie n’implique pas la rareté du phénomène. \n\n\n\nTéléchargez la plaquette \n\n\n\n\n\n  \n    \n      \n                        POUR EN SAVOIR PLUS\n                \n                  \n            \n                        Sur l’Alliance Maladies Rares\n                      \n                  \n            \n                        Ministère du travail\, de la santé et des solidarités\n                      \n                \n      \n    \n  \n\n\n\n  .block-e_arrow-list {\n    padding: 0;\n  }\n\n\n\n\n\n\n\n\n\n\n\n\n\n\n
URL:https://adps-sante.fr/event/3-millions-de-personnes-touchees-une-journee-pour-en-parler/
END:VEVENT
END:VCALENDAR